BEGIN:VCALENDAR
PRODID:-//Microsoft Corporation//Outlook MIMEDIR//EN
VERSION:2.0
METHOD:PUBLISH
BEGIN:VEVENT
DTSTART:20260420T173000
DTEND:20260420T183000
DESCRIPTION:
LOCATION:City Hall 41 Green Street, 2nd Floor Conference Room
SUMMARY:Fiscal Policy Advisory Committee
CATEGORIES:MEETING
END:VEVENT
END:VCALENDAR
